BEGIN:VCALENDAR
VERSION:2.0
PRODID:-//Chatterbox Books - ECPv6.15.20//NONSGML v1.0//EN
CALSCALE:GREGORIAN
METHOD:PUBLISH
X-WR-CALNAME:Chatterbox Books
X-ORIGINAL-URL:https://thechatterboxbooks.com
X-WR-CALDESC:Events for Chatterbox Books
REFRESH-INTERVAL;VALUE=DURATION:PT1H
X-Robots-Tag:noindex
X-PUBLISHED-TTL:PT1H
BEGIN:VTIMEZONE
TZID:America/New_York
BEGIN:DAYLIGHT
TZOFFSETFROM:-0500
TZOFFSETTO:-0400
TZNAME:EDT
DTSTART:20290311T070000
END:DAYLIGHT
BEGIN:STANDARD
TZOFFSETFROM:-0400
TZOFFSETTO:-0500
TZNAME:EST
DTSTART:20291104T060000
END:STANDARD
BEGIN:DAYLIGHT
TZOFFSETFROM:-0500
TZOFFSETTO:-0400
TZNAME:EDT
DTSTART:20300310T070000
END:DAYLIGHT
BEGIN:STANDARD
TZOFFSETFROM:-0400
TZOFFSETTO:-0500
TZNAME:EST
DTSTART:20301103T060000
END:STANDARD
BEGIN:DAYLIGHT
TZOFFSETFROM:-0500
TZOFFSETTO:-0400
TZNAME:EDT
DTSTART:20310309T070000
END:DAYLIGHT
BEGIN:STANDARD
TZOFFSETFROM:-0400
TZOFFSETTO:-0500
TZNAME:EST
DTSTART:20311102T060000
END:STANDARD
END:VTIMEZONE
BEGIN:VEVENT
DTSTART;TZID=America/New_York:20301126T100000
DTEND;TZID=America/New_York:20301126T120000
DTSTAMP:20260419T155018
CREATED:20251021T075832Z
LAST-MODIFIED:20251208T161339Z
UID:10000265-1921917600-1921924800@thechatterboxbooks.com
SUMMARY:Little Chatterbug Storytime
DESCRIPTION:A cozy weekly storytime for our littlest readers every Tuesday. \nJoin us every Tuesday morning for Tuesday Chatterbug Storytime\, a gentle\, traditional storytime designed especially for children ages 1–3. We’ll gather in the shop to read a small stack of beloved board books and picture books\, followed by relaxed time to play\, explore the shelves\, and connect with other families. \nThis is an easy\, low-pressure way to build a weekly rhythm—where little ones grow in their love of books and everyone grows in community. \nPerfect for:• Toddlers & young preschoolers (ages 1–3)• First storytime experiences• Play\, exploration\, and connection• Anyone looking for a consistent weekly gathering
URL:https://thechatterboxbooks.com/event/lorem-ipsum/2030-11-26/
LOCATION:Chatterbox Books\, 126 S. Orange Ave.\, South Orange\, NJ\, 07079\, United States
ATTACH;FMTTYPE=image/jpeg:https://thechatterboxbooks.com/wp-content/uploads/2025/10/20250812_102005-scaled.jpg
ORGANIZER;CN="Amy":MAILTO:info@thechatterboxbook.com
END:VEVENT
BEGIN:VEVENT
DTSTART;TZID=America/New_York:20301203T100000
DTEND;TZID=America/New_York:20301203T120000
DTSTAMP:20260419T155018
CREATED:20251021T075832Z
LAST-MODIFIED:20251208T161339Z
UID:10000266-1922522400-1922529600@thechatterboxbooks.com
SUMMARY:Little Chatterbug Storytime
DESCRIPTION:A cozy weekly storytime for our littlest readers every Tuesday. \nJoin us every Tuesday morning for Tuesday Chatterbug Storytime\, a gentle\, traditional storytime designed especially for children ages 1–3. We’ll gather in the shop to read a small stack of beloved board books and picture books\, followed by relaxed time to play\, explore the shelves\, and connect with other families. \nThis is an easy\, low-pressure way to build a weekly rhythm—where little ones grow in their love of books and everyone grows in community. \nPerfect for:• Toddlers & young preschoolers (ages 1–3)• First storytime experiences• Play\, exploration\, and connection• Anyone looking for a consistent weekly gathering
URL:https://thechatterboxbooks.com/event/lorem-ipsum/2030-12-03/
LOCATION:Chatterbox Books\, 126 S. Orange Ave.\, South Orange\, NJ\, 07079\, United States
ATTACH;FMTTYPE=image/jpeg:https://thechatterboxbooks.com/wp-content/uploads/2025/10/20250812_102005-scaled.jpg
ORGANIZER;CN="Amy":MAILTO:info@thechatterboxbook.com
END:VEVENT
END:VCALENDAR